BEGIN:VCALENDAR
PRODID:-//eluceo/ical//2.0/EN
VERSION:2.0
CALSCALE:GREGORIAN
BEGIN:VEVENT
UID:6dfd178e2208f035737cabaac4b65bef
DTSTAMP:20260425T163458Z
SUMMARY:Zukunft Niedersachsen: Politisches Kulturfest zum Green Deal
DESCRIPTION:Am 3.9. veranstaltet die deutsche grüne Delegation ein politis
 ches Kulturfest in Hannover rund um das Thema #GreenDeal – mit einer Pod
 iumsdiskussion mit spannenden Gästen\, Musik\, Spiel & Spaß.
URL:https://henrike-hahn.eu/de/veranstaltungen/zukunft-niedersachsen-politi
 sches-kulturfest-zum-green-deal
DTSTART:20220903T150000
DTEND:20220903T183000
LOCATION:
END:VEVENT
BEGIN:VTIMEZONE
TZID:Europe/Berlin
BEGIN:DAYLIGHT
DTSTART:20220903T150000
TZNAME:CEST
TZOFFSETTO:+0200
TZOFFSETFROM:+0200
END:DAYLIGHT
END:VTIMEZONE
END:VCALENDAR
