BEGIN:VCALENDAR
PRODID:-//eluceo/ical//2.0/EN
VERSION:2.0
CALSCALE:GREGORIAN
BEGIN:VEVENT
UID:3c45b96202a8e1033bf1808de60281be
DTSTAMP:20260425T213522Z
SUMMARY:Webinar: „Ukraine – Wie reagiert Europa auf Putins Angriff\, He
 nrike Hahn?“
DESCRIPTION:Am Samstag\, 05. März 2022 um 19:00 Uhr wird die grüne Münch
 ner Europaabgeordnete Henrike Hahn\, stellvertretende Delegationsleiterin 
 und industriepolitische Sprecherin der grünen Europagruppe und Mitglied i
 m Ausschuss für Industrie\, Forschung und Energie uns einen Einblick in d
 ie aktuellen europapolitischen Entwicklungen zum Krieg in der Ukraine gebe
 n.
URL:https://henrike-hahn.eu/de/veranstaltungen/webinar-ukraine-wie-reagiert
 -europa-auf-putins-angriff-henrike-hahn
DTSTART:20220305T190000
DTEND:20220305T203000
LOCATION:
END:VEVENT
BEGIN:VTIMEZONE
TZID:Europe/Berlin
BEGIN:STANDARD
DTSTART:20220305T190000
TZNAME:CET
TZOFFSETTO:+0100
TZOFFSETFROM:+0100
END:STANDARD
END:VTIMEZONE
END:VCALENDAR
