BEGIN:VCALENDAR
PRODID:-//eluceo/ical//2.0/EN
VERSION:2.0
CALSCALE:GREGORIAN
BEGIN:VEVENT
UID:ddfcbabd3eec95fc98439b4159c13f35
DTSTAMP:20260423T091640Z
SUMMARY:Raw Materials Week 2022: Session II: Securing Supply of Raw Materia
 ls – Raw Materials Act
DESCRIPTION:Panel discussion on the planned Critical Raw Materials Act on 1
 6.11.2022 with Joaquim Nunes de Almeida\, DG Grow\, Henrike Hahn\, MEP\, H
 ildegard Bentele\, MEP\, Paolo Cerruti\, Northvolt\, Virginie de Chassey\,
  Eramet.
URL:https://henrike-hahn.eu/de/veranstaltungen/raw-materials-week-2022
DTSTART:20221116T143000
DTEND:20221116T151500
LOCATION:Bld Adolphe Max 118-126\, 1000 Brüssel
END:VEVENT
BEGIN:VTIMEZONE
TZID:Europe/Berlin
BEGIN:STANDARD
DTSTART:20221116T143000
TZNAME:CET
TZOFFSETTO:+0100
TZOFFSETFROM:+0100
END:STANDARD
END:VTIMEZONE
END:VCALENDAR
