BEGIN:VCALENDAR
PRODID:-//eluceo/ical//2.0/EN
VERSION:2.0
CALSCALE:GREGORIAN
BEGIN:VEVENT
UID:22ea4bf7c201d6ad8b1c8d76135b6318
DTSTAMP:20260425T203101Z
SUMMARY:Randgruppenkrawall Behindertenprotesttag
DESCRIPTION:Am 7. Mai bin ich eine der Redner*innen beim Randgruppenkrawall
 \, einer Demonstration für ein selbstbestimmtes (!) Leben\, Teilhabe und 
 Barrierefreiheit. Behindertenprotest gegen Ausgrenzung\, Bevormundung und 
 Unterdrückung.
URL:https://henrike-hahn.eu/de/veranstaltungen/randgruppenkrawall-behindert
 enprotest
DTSTART:20220507T140000
DTEND:20220507T140000
LOCATION:Marienplatz München
END:VEVENT
BEGIN:VTIMEZONE
TZID:Europe/Berlin
BEGIN:DAYLIGHT
DTSTART:20220507T140000
TZNAME:CEST
TZOFFSETTO:+0200
TZOFFSETFROM:+0200
END:DAYLIGHT
END:VTIMEZONE
END:VCALENDAR
