BEGIN:VCALENDAR
PRODID:-//eluceo/ical//2.0/EN
VERSION:2.0
CALSCALE:GREGORIAN
BEGIN:VEVENT
UID:7b86e22f4963da91ec5badf165ab6e22
DTSTAMP:20260425T135706Z
SUMMARY:Online-Veranstaltung des KV Würzburg: „Krieg in der Ukraine: Was
  passiert jetzt?“
DESCRIPTION:Statt dem Politischen Aschermittwoch veranstaltet der KV Würzb
 urg-Stadt nun eine Veranstaltung zur Ukraine. Gastredner ist neben mir Ton
 i Hofreiter\, MdB.
URL:https://henrike-hahn.eu/de/veranstaltungen/politischer-aschermittwoch-d
 es-kv-wuerzburg-stadt-krieg-in-der-ukraine-was-passiert-jetzt
DTSTART:20220302T193000
DTEND:20220302T210000
LOCATION:
END:VEVENT
BEGIN:VTIMEZONE
TZID:Europe/Berlin
BEGIN:STANDARD
DTSTART:20220302T193000
TZNAME:CET
TZOFFSETTO:+0100
TZOFFSETFROM:+0100
END:STANDARD
END:VTIMEZONE
END:VCALENDAR
