BEGIN:VCALENDAR
PRODID:-//eluceo/ical//2.0/EN
VERSION:2.0
CALSCALE:GREGORIAN
BEGIN:VEVENT
UID:2a69c5fc24b95c78bd1625c6c6523ddf
DTSTAMP:20260425T192021Z
SUMMARY:Podiumsdiskussion: Demokratische Freiheitsrechte und voranschreiten
 de EU-Integration – ein Widerspruch?
DESCRIPTION:
URL:https://henrike-hahn.eu/de/veranstaltungen/podiumsdiskussion-demokratis
 che-freiheitsrechte-und-voranschreitende-eu-integration-ein-widerspruch
DTSTART:20211213T190000
DTEND:20211213T203000
LOCATION:online
END:VEVENT
BEGIN:VTIMEZONE
TZID:Europe/Berlin
BEGIN:STANDARD
DTSTART:20211213T190000
TZNAME:CET
TZOFFSETTO:+0100
TZOFFSETFROM:+0100
END:STANDARD
END:VTIMEZONE
END:VCALENDAR
