BEGIN:VCALENDAR
PRODID:-//eluceo/ical//2.0/EN
VERSION:2.0
CALSCALE:GREGORIAN
BEGIN:VEVENT
UID:be30693c6b5d02432d35db1e387636b9
DTSTAMP:20260425T164053Z
SUMMARY:OnlineKongress – Der Green Deal und die Wettbewerbsfähigkeit der
  Wirtschaft
DESCRIPTION:
URL:https://henrike-hahn.eu/de/veranstaltungen/onlinekongress-der-green-dea
 l-und-die-wettbewerbsfaehigkeit-der-wirtschaft
DTSTART:20211027T153000
DTEND:20211027T170000
LOCATION:ONLINE
END:VEVENT
BEGIN:VTIMEZONE
TZID:Europe/Berlin
BEGIN:DAYLIGHT
DTSTART:20211027T153000
TZNAME:CEST
TZOFFSETTO:+0200
TZOFFSETFROM:+0200
END:DAYLIGHT
END:VTIMEZONE
END:VCALENDAR
