BEGIN:VCALENDAR
PRODID:-//eluceo/ical//2.0/EN
VERSION:2.0
CALSCALE:GREGORIAN
BEGIN:VEVENT
UID:9d49e95894eedbe73dc950b29e1f7283
DTSTAMP:20260425T135204Z
SUMMARY:Klimaschutz made in Europe: Wie der Green Deal erfolgreich wird
DESCRIPTION:Der Green Deal ist der Fahrplan für ein klimaneutrales Europa 
 bis 2050. Mit dem „fit for 55“-Paket der EU-Kommission steht jetzt ein
  umfassendes Maßnahmenpaket mit Konsequenzen für Klima- und Energiepolit
 ik an. 
URL:https://henrike-hahn.eu/de/veranstaltungen/klimaschutz-made-in-europe-w
 ie-der-green-deal-erfolgreich-wird
DTSTART:20210503T193000
DTEND:20210503T210000
LOCATION:
END:VEVENT
BEGIN:VTIMEZONE
TZID:Europe/Berlin
BEGIN:DAYLIGHT
DTSTART:20210503T193000
TZNAME:CEST
TZOFFSETTO:+0200
TZOFFSETFROM:+0200
END:DAYLIGHT
END:VTIMEZONE
END:VCALENDAR
