BEGIN:VCALENDAR
PRODID:-//eluceo/ical//2.0/EN
VERSION:2.0
CALSCALE:GREGORIAN
BEGIN:VEVENT
UID:090c6dde3a63604d65ca6c3ef36bf09a
DTSTAMP:20260425T135737Z
SUMMARY:ENERGIE.CROSS.MEDIAL 2022: Diskussion: „Die EU-Taxonomie und ihre
  Folgen – welche Konsequenzen sind zu erwarten?“
DESCRIPTION:Am 4. März 2022 bin ich auf dem Forum der Energiewende ENERGIE
 .CROSS.MEDIAL zu Gast bei einer Diskussion zur EU-Taxonomie und ihren Folg
 en.
URL:https://henrike-hahn.eu/de/veranstaltungen/energie-cross-medial-2022-di
 skussion-paneldiskussion-die-eu-taxonomie-und-ihre-folgen-welche-konsequen
 zen-sind-zu-erwarten
DTSTART:20220304T100000
DTEND:20220304T110000
LOCATION:
END:VEVENT
BEGIN:VTIMEZONE
TZID:Europe/Berlin
BEGIN:STANDARD
DTSTART:20220304T100000
TZNAME:CET
TZOFFSETTO:+0100
TZOFFSETFROM:+0100
END:STANDARD
END:VTIMEZONE
END:VCALENDAR
