BEGIN:VCALENDAR
PRODID:-//eluceo/ical//2.0/EN
VERSION:2.0
CALSCALE:GREGORIAN
BEGIN:VEVENT
UID:1256eb77fdd7be63286aa2b5916e03aa
DTSTAMP:20260425T135739Z
SUMMARY:Deutsch-französisches Energieforum: Die Finanzierung der Europäis
 chen Energiewende
DESCRIPTION:Am 18. November bin ich beim deutsch-französischen Energieforu
 m zu Gast und diskutiere mit weiteren EU-Abgeordneten und Vertreter*innen 
 der Zivilgesellschaft darüber\, wie sich Europas erhöhte Klima- und Ener
 gieziele für 2030 und 2050 sozialverträglich erreichen lassen.
URL:https://henrike-hahn.eu/de/veranstaltungen/deutsch-franzoesisches-energ
 ieforum-die-finanzierung-der-europaeischen-energiewende
DTSTART:20211118T124500
DTEND:20211118T134500
LOCATION:online
END:VEVENT
BEGIN:VTIMEZONE
TZID:Europe/Berlin
BEGIN:STANDARD
DTSTART:20211118T124500
TZNAME:CET
TZOFFSETTO:+0100
TZOFFSETFROM:+0100
END:STANDARD
END:VTIMEZONE
END:VCALENDAR
