BEGIN:VCALENDAR
PRODID:-//eluceo/ical//2.0/EN
VERSION:2.0
CALSCALE:GREGORIAN
BEGIN:VEVENT
UID:12d75e3280f66ca403b1190c3ad5a36b
DTSTAMP:20260426T003831Z
SUMMARY:Freedom Demo for Iran
DESCRIPTION:Ein Bündnis der „Woman-Life-Freedom“ - Initiativen aus Mü
 nchen\, Stuttgart\, Nürnberg\, Erlangen\, Ravensburg und Ulm rufen am 12.
  November um 15 Uhr am Königsplatz zur größten Free-Iran-Demo in Südde
 utschland auf.Die Solidaritätsbekundung wird tatkräftig unterstützt von
  Politiker*innen und NGOs.
URL:https://henrike-hahn.eu/de/veranstaltungen/demo-for-iran
DTSTART:20221112T150000
DTEND:20221112T170000
LOCATION:Königsplatz München
END:VEVENT
BEGIN:VTIMEZONE
TZID:Europe/Berlin
BEGIN:STANDARD
DTSTART:20221112T150000
TZNAME:CET
TZOFFSETTO:+0100
TZOFFSETFROM:+0100
END:STANDARD
END:VTIMEZONE
END:VCALENDAR
